BEGIN:VCALENDAR
VERSION:2.0
PRODID:icalendar-ruby
CALSCALE:GREGORIAN
METHOD:PUBLISH
BEGIN:VEVENT
DTSTAMP:20260425T154536Z
UID:286-1088400@newlifelamesa.org
DTSTART:20260506T170000Z
DTEND:20260506T190000Z
CLASS:PUBLIC
CREATED:20260424T121924
DESCRIPTION:Come join us as we study Ecclesiastes using the book Ecclesiast
 es: Finding Meaning When Life Feels Meaningless by Lydia Brownback!  Ther
 e are two identical studies on Wednesdays\, one that meets from 10 am to n
 oon\, and the other from 6:15 pm to 7:30 pm.
LAST-MODIFIED:20260424T121924
LOCATION:Room 204 Upstairs
SUMMARY:Women's Bible Study (Morning)
URL;VALUE=URI:https://www.newlifelamesa.org/events/womens-bible-study-morni
 ng--286/2026-05-06
ATTACH;FILENAME=Ecclesiastes Bible Study.png;FMTTYPE=image/png:https://dq5p
 wpg1q8ru0.cloudfront.net/2026/01/17/16/32/06/77dda4d6-e84b-49ab-b2e5-35634
 4c8dc24/Ecclesiastes%20Bible%20Study.png
END:VEVENT
END:VCALENDAR
