BEGIN:VCALENDAR
VERSION:2.0
PRODID:icalendar-ruby
CALSCALE:GREGORIAN
METHOD:PUBLISH
BEGIN:VEVENT
DTSTAMP:20260425T140715Z
UID:287-1088413@newlifelamesa.org
DTSTART:20260430T011500Z
DTEND:20260430T023000Z
CLASS:PUBLIC
CREATED:20260424T122007
DESCRIPTION:Come join us as we study Ecclesiastes using the book Ecclesiast
 es: Finding Meaning When Life Feels Meaningless by Lydia Brownback!  The
 re are two identical studies on Wednesdays\, one that meets from 10 am to 
 noon\, and the other from 6:15 pm to 7:30 pm.
LAST-MODIFIED:20260424T122007
LOCATION:Room 202 Upstairs
SUMMARY:Women's Bible Study (Evening)
URL;VALUE=URI:https://www.newlifelamesa.org/events/womens-bible-study-eveni
 ng--287/2026-04-29
ATTACH;FILENAME=Ecclesiastes Bible Study.png;FMTTYPE=image/png:https://dq5p
 wpg1q8ru0.cloudfront.net/2026/01/17/16/36/42/3f57ed62-64c3-4e05-af57-7405d
 6332ed4/Ecclesiastes%20Bible%20Study.png
END:VEVENT
END:VCALENDAR
