BEGIN:VCALENDAR
VERSION:2.0
PRODID:icalendar-ruby
CALSCALE:GREGORIAN
METHOD:PUBLISH
BEGIN:VEVENT
DTSTAMP:20260419T172220Z
UID:298-899530@newlifelamesa.org
DTSTART:20260912T160000Z
DTEND:20260912T190000Z
CLASS:PUBLIC
CREATED:20260313T112628
DESCRIPTION:The Women's Book Club is led quarterly by Connie Kocher and Sus
 an Bugbee.\nJoin us at the home of Deborah Creedon as we discuss War and 
 Peace by Leo Tolstoy. \nBring a brunch item to share. Click the RSVP &a
 mp\; Food Sign-up button to let everyone know you'll be there and what yu
 mmy item you'll be bringing.\nLocation: 7327 Casper Dr\, San Diego\, CA 9
 2119\nThe discussion questions can be download below once they're availabl
 e.
LAST-MODIFIED:20260313T112628
LOCATION:7327 Casper Dr.\, San Diego\, CA 92119
SUMMARY:Women’s Book Club
URL;VALUE=URI:https://www.newlifelamesa.org/events/women-s-book-club--298/2
 026-09-12
ATTACH;FILENAME=War and Peace.png;FMTTYPE=image/png:https://dq5pwpg1q8ru0.c
 loudfront.net/2026/03/07/22/40/37/5a1f4053-80c1-430f-b7c5-32d5bc9ffb3a/War
 %20and%20Peace.png
END:VEVENT
END:VCALENDAR
