BEGIN:VCALENDAR
VERSION:2.0
PRODID:icalendar-ruby
CALSCALE:GREGORIAN
METHOD:PUBLISH
BEGIN:VEVENT
DTSTAMP:20260420T133016Z
UID:290-956559@newlifelamesa.org
DTSTART:20260322T181500Z
DTEND:20260322T190000Z
CLASS:PUBLIC
CREATED:20260326T075408
DESCRIPTION:
LAST-MODIFIED:20260326T075408
LOCATION:Room 204
SUMMARY:Psalms and Beyond: Why Poetry Matters
URL;VALUE=URI:https://www.newlifelamesa.org/events/psalms-and-beyond-why-po
 etry-matters/2026-03-22
ATTACH;FILENAME=Higher ED.png;FMTTYPE=image/png:https://dq5pwpg1q8ru0.cloud
 front.net/2026/02/22/21/51/42/b2d59e92-8668-4e11-90a9-8915b3600e67/Higher%
 20ED.png
END:VEVENT
END:VCALENDAR
