BEGIN:VCALENDAR
VERSION:2.0
PRODID:icalendar-ruby
CALSCALE:GREGORIAN
METHOD:PUBLISH
BEGIN:VEVENT
DTSTAMP:20260420T200700Z
UID:14-1070781@newlifelamesa.org
DTSTART:20260922T133000Z
DTEND:20260922T143000Z
CLASS:PUBLIC
CREATED:20260420T120033
DESCRIPTION:Map to Simple Coffee House: 7407 Jackson Dr\, San Diego\, CA 92
 119
LAST-MODIFIED:20260420T120033
LOCATION:Simple Coffee House 7407 Jackson Dr\, San Diego\, CA 92119
SUMMARY:Men's Bible Study
URL;VALUE=URI:https://www.newlifelamesa.org/events/mens-bible-study/2026-09
 -22
ATTACH;FILENAME=mens-bible-study-web.png;FMTTYPE=image/png:https://dq5pwpg1
 q8ru0.cloudfront.net/2025/07/29/16/04/46/1160d755-c1d5-4be8-af45-580758840
 20b/mens-bible-study-web.png
END:VEVENT
END:VCALENDAR
