BEGIN:VCALENDAR
VERSION:2.0
PRODID:icalendar-ruby
CALSCALE:GREGORIAN
METHOD:PUBLISH
BEGIN:VEVENT
DTSTAMP:20260420T103816Z
UID:79-1036110@newlifelamesa.org
DTSTART:20260525T170000Z
DTEND:20260525T230000Z
CLASS:PUBLIC
CREATED:20260412T190516
DESCRIPTION:Come celebrate Memorial Day with your church family at Presidio
  Park. Click here for the exact location near the intersection of Presidio
  Dr. and Cosoy Way.\nBring blankets\, chairs\, games\, lunch and enjoy a d
 ay of fun and fellowship.\n 
LAST-MODIFIED:20260412T190516
LOCATION:Presidio Park - Click button for map of exact location
SUMMARY:Memorial Day Picnic
URL;VALUE=URI:https://www.newlifelamesa.org/events/memorial-day-picnic/2026
 -05-25
ATTACH;FILENAME=Memorial Day Picnic.jpg;FMTTYPE=image/jpeg:https://dq5pwpg1
 q8ru0.cloudfront.net/2023/04/20/10/47/50/33bd9eb9-14c5-4616-ba77-09c439577
 691/Memorial%20Day%20Picnic.jpg
END:VEVENT
END:VCALENDAR
