BEGIN:VCALENDAR
VERSION:2.0
PRODID:icalendar-ruby
CALSCALE:GREGORIAN
METHOD:PUBLISH
BEGIN:VEVENT
DTSTAMP:20260420T090623Z
UID:149-956582@newlifelamesa.org
DTSTART:20260601T000000Z
DTEND:20260601T013000Z
CLASS:PUBLIC
CREATED:20260326T080000
DESCRIPTION:No need to RSVP. Just bring a ready-to-serve main dish\, side d
 ish\, salad\, or dessert. The evening worship service will immediately fol
 low the meal.
LAST-MODIFIED:20260326T080000
LOCATION:MAC (Fellowship Hall)
SUMMARY:Fellowship Meal & Evening Worship
URL;VALUE=URI:https://www.newlifelamesa.org/events/fellowship-meal-evening-
 worship/2026-05-31
ATTACH;FILENAME=Fellowship Meal Website.png;FMTTYPE=image/png:https://dq5pw
 pg1q8ru0.cloudfront.net/2025/06/16/19/06/59/83b522e9-b2db-45d0-99d6-4b9698
 65357e/Fellowship%20Meal%20Website.png
END:VEVENT
END:VCALENDAR
