BEGIN:VCALENDAR
VERSION:2.0
PRODID:icalendar-ruby
CALSCALE:GREGORIAN
METHOD:PUBLISH
BEGIN:VEVENT
DTSTAMP:20260420T103743Z
UID:303-1030829@newlifelamesa.org
DTSTART:20260517T181500Z
DTEND:20260518T070000Z
CLASS:PUBLIC
CREATED:20260411T165441
DESCRIPTION:The Session is pleased to announce a called Congregation meetin
 g on 17 May 2026 for all communing members in good and regular standing. I
 n accordance with the PCA’s constitution\, after over a year of training
 \, and Session examination on 8 April 2026\, the Session unanimously and j
 oyfully approve members Vince Ortiz and Dave Fredrickson to stand before y
 ou for consideration for election to the office of Ruling Elder\; and memb
 ers Brian Barnes and Brad Beyenhof to stand before you for your considerat
 ion for election to the office of Deacon. Those elected by you on 17 May w
 ill be ordained and installed during a future worship service. Congratulat
 ions to these men! Get to know them\; ask questions prior to the meeting\;
  pray for them!
LAST-MODIFIED:20260411T165441
LOCATION:The Sanctuary
SUMMARY:Congregational Meeting
URL;VALUE=URI:https://www.newlifelamesa.org/events/congregational-meeting--
 303/2026-05-17
ATTACH;FILENAME=Congregational-meeting-2.jpg;FMTTYPE=image/jpeg:https://dq5
 pwpg1q8ru0.cloudfront.net/2026/04/11/23/54/41/71e83903-47b3-41f2-856c-933b
 308aaf0e/Congregational-meeting-2.jpg
END:VEVENT
END:VCALENDAR
